BEGIN:VCALENDAR
VERSION:2.0
PRODID:icalendar-ruby
CALSCALE:GREGORIAN
METHOD:PUBLISH
BEGIN:VEVENT
DTSTAMP:20260425T181217Z
UID:5-1600469@m2lpalmcity.com
DTSTART:20260830T180000Z
DTEND:20260830T190000Z
CLASS:PUBLIC
CREATED:20260425T110042
DESCRIPTION:Sunday Worship
LAST-MODIFIED:20260425T110042
LOCATION:
SUMMARY:Sunday Worship
URL;VALUE=URI:https://m2lpalmcity.com/events/sunday-worship/2026-08-30
END:VEVENT
END:VCALENDAR
