BEGIN:VCALENDAR
VERSION:2.0
PRODID:icalendar-ruby
CALSCALE:GREGORIAN
METHOD:PUBLISH
BEGIN:VEVENT
DTSTAMP:20260420T155620Z
UID:5-1586928@m2lpalmcity.com
DTSTART:20260510T180000Z
DTEND:20260510T190000Z
CLASS:PUBLIC
CREATED:20260420T080734
DESCRIPTION:Sunday Worship
LAST-MODIFIED:20260420T080734
LOCATION:
SUMMARY:Sunday Worship
URL;VALUE=URI:https://m2lpalmcity.com/events/sunday-worship/2026-05-10
END:VEVENT
END:VCALENDAR
