BEGIN:VCALENDAR
VERSION:2.0
PRODID:icalendar-ruby
CALSCALE:GREGORIAN
METHOD:PUBLISH
BEGIN:VEVENT
DTSTAMP:20260420T205608Z
UID:6-1587833@m2lpalmcity.com
DTSTART:20260607T170000Z
DTEND:20260607T190000Z
CLASS:PUBLIC
CREATED:20260420T131711
DESCRIPTION:Join us each Sunday as we Worship together\, Pray together\, an
 d Hear a Message from God's Word!
LAST-MODIFIED:20260420T131711
LOCATION:More 2 Life Palm City
SUMMARY:Sunday Service
URL;VALUE=URI:https://m2lpalmcity.com/events/sunday-service/2026-06-07
ATTACH;FILENAME=new-here-.JPG;FMTTYPE=image/jpeg:https://dq5pwpg1q8ru0.clou
 dfront.net/2026/04/18/00/55/34/05ac06fb-6656-48ab-9052-57a32534cd59/new-he
 re-.JPG
END:VEVENT
END:VCALENDAR
