BEGIN:VCALENDAR
VERSION:2.0
PRODID:icalendar-ruby
CALSCALE:GREGORIAN
METHOD:PUBLISH
BEGIN:VEVENT
DTSTAMP:20260422T095601Z
UID:9-1580460@m2lpalmcity.com
DTSTART:20260508T011500Z
DTEND:20260508T030000Z
CLASS:PUBLIC
CREATED:20260417T180808
DESCRIPTION:Join Pastor Morgan once a month as they go through the study of
  Wild At Heart.\nThis is a men's study only at the church
LAST-MODIFIED:20260417T180808
LOCATION:8163 SW Citrus Blvd Palm City FL
SUMMARY:Men's Monthly Study
URL;VALUE=URI:https://m2lpalmcity.com/events/mens-monthly-study/2026-05-07
ATTACH;FILENAME=22526x_1_ftc.jpg;FMTTYPE=image/jpeg:https://dq5pwpg1q8ru0.c
 loudfront.net/2026/04/18/01/08/08/da699501-39a6-4711-88b0-009ead6d86fe/225
 26x_1_ftc.jpg
END:VEVENT
END:VCALENDAR
