BEGIN:VCALENDAR
VERSION:2.0
PRODID:icalendar-ruby
CALSCALE:GREGORIAN
METHOD:PUBLISH
BEGIN:VEVENT
DTSTAMP:20260420T143815Z
UID:8-1586549@m2lpalmcity.com
DTSTART:20260508T013000Z
DTEND:20260508T030000Z
CLASS:PUBLIC
CREATED:20260420T053323
DESCRIPTION:Join us @ Pastor Mark's home as we open the Word together! \nT
 his is study for men and women\, couples and singles\nContact Pastor Mark 
 for the address!
LAST-MODIFIED:20260420T053323
LOCATION:Pastor Mark's house 
SUMMARY:Bible Study
URL;VALUE=URI:https://m2lpalmcity.com/events/bible-study/2026-05-07
ATTACH;FILENAME=Open-Bible-with-Pen.jpg;FMTTYPE=image/jpeg:https://dq5pwpg1
 q8ru0.cloudfront.net/2026/04/18/01/01/33/04c76ba9-4f9f-4cba-bfb9-e7ef3dcc2
 39a/Open-Bible-with-Pen.jpg
END:VEVENT
END:VCALENDAR
